BEGIN:VCALENDAR
VERSION:2.0
PRODID:-//Kitsap Humane Society - ECPv5.0.3.1//NONSGML v1.0//EN
CALSCALE:GREGORIAN
METHOD:PUBLISH
X-WR-CALNAME:Kitsap Humane Society
X-ORIGINAL-URL:https://www.kitsap-humane.org
X-WR-CALDESC:Events for Kitsap Humane Society
BEGIN:VTIMEZONE
TZID:America/Vancouver
BEGIN:DAYLIGHT
TZOFFSETFROM:-0800
TZOFFSETTO:-0700
TZNAME:PDT
DTSTART:20230312T100000
END:DAYLIGHT
BEGIN:STANDARD
TZOFFSETFROM:-0700
TZOFFSETTO:-0800
TZNAME:PST
DTSTART:20231105T090000
END:STANDARD
END:VTIMEZONE
BEGIN:VEVENT
DTSTART;VALUE=DATE:20230301
DTEND;VALUE=DATE:20230321
DTSTAMP:20230820T225009
CREATED:20230216T223805Z
LAST-MODIFIED:20230301T235609Z
UID:20647-1677628800-1679356799@www.kitsap-humane.org
SUMMARY:Cultivate Compassion Spring Merch Fundraiser
DESCRIPTION:Cultivate Compassion Merch Fundraiser\nHere at KHS\, we believe in compassion for pets and people alike! Cultivate compassion for our community with this limited-edition merchandise! \nWith four options to choose from through our online shop\, you can show your love for cats\, dogs\, and critters! We also have fun tie-dye options in each design. These beautiful designs\, hand-drawn by our team’s graphic designer\, and extra-soft apparel is the purr-fect gift for the animal lover in your life and will only be available from March 1-20. \nNot only will you look great in this official KHS swag\, but your purchase will also support the essential programs and services Kitsap Humane Society provides to people and pets in our community\, including animal sheltering and care\, foster\, veterinary services\, behavior training\, and more. \nPURCHASE NOW! \n
URL:https://www.kitsap-humane.org/event/cultivate-compassion-spring-merch-fundraiser/
CATEGORIES:Featured
ATTACH;FMTTYPE=image/jpeg:https://www.kitsap-humane.org/wp-content/uploads/2023/02/WEB-FeatEvent-SpringMerch2023e.jpg
END:VEVENT
END:VCALENDAR