BEGIN:VCALENDAR
VERSION:2.0
PRODID:-//Kitsap Humane Society - ECPv5.0.3.1//NONSGML v1.0//EN
CALSCALE:GREGORIAN
METHOD:PUBLISH
X-WR-CALNAME:Kitsap Humane Society
X-ORIGINAL-URL:https://www.kitsap-humane.org
X-WR-CALDESC:Events for Kitsap Humane Society
BEGIN:VTIMEZONE
TZID:America/Vancouver
BEGIN:DAYLIGHT
TZOFFSETFROM:-0800
TZOFFSETTO:-0700
TZNAME:PDT
DTSTART:20220313T100000
END:DAYLIGHT
BEGIN:STANDARD
TZOFFSETFROM:-0700
TZOFFSETTO:-0800
TZNAME:PST
DTSTART:20221106T090000
END:STANDARD
END:VTIMEZONE
BEGIN:VEVENT
DTSTART;VALUE=DATE:20221121
DTEND;VALUE=DATE:20221122
DTSTAMP:20230820T234128
CREATED:20221102T214813Z
LAST-MODIFIED:20221102T214858Z
UID:20173-1668988800-1669075199@www.kitsap-humane.org
SUMMARY:Cat Fix Day!
DESCRIPTION:Cat Fix Day is back again on Monday\, November 21!\nCat Fix Day is back again on Monday\, November 21. Cat spay and neuter appointments open shortly via our Surgery Scheduler and will fill up fast! Be sure to read about our services and processes by visiting: https://www.kitsap-humane.org/vet-services/low-cost-spayneuter/ \nPlease note: If you or someone you know is needing a spay or neuter surgery for your cats\, we encourage you to get an appointment quickly as we anticipate that slots will fill up fast. \n
URL:https://www.kitsap-humane.org/event/cat-fix-day-nov-22/
END:VEVENT
END:VCALENDAR