BEGIN:VCALENDAR
VERSION:2.0
PRODID:-//Kitsap Humane Society - ECPv5.0.3.1//NONSGML v1.0//EN
CALSCALE:GREGORIAN
METHOD:PUBLISH
X-WR-CALNAME:Kitsap Humane Society
X-ORIGINAL-URL:https://www.kitsap-humane.org
X-WR-CALDESC:Events for Kitsap Humane Society
BEGIN:VTIMEZONE
TZID:America/Vancouver
BEGIN:DAYLIGHT
TZOFFSETFROM:-0800
TZOFFSETTO:-0700
TZNAME:PDT
DTSTART:20230312T100000
END:DAYLIGHT
BEGIN:STANDARD
TZOFFSETFROM:-0700
TZOFFSETTO:-0800
TZNAME:PST
DTSTART:20231105T090000
END:STANDARD
END:VTIMEZONE
BEGIN:VEVENT
DTSTART;TZID=America/Vancouver:20231007T170000
DTEND;TZID=America/Vancouver:20231007T210000
DTSTAMP:20230820T191149
CREATED:20221003T193236Z
LAST-MODIFIED:20230717T173554Z
UID:19988-1696698000-1696712400@www.kitsap-humane.org
SUMMARY:Animal Krackers 2023
DESCRIPTION:Join us for our 30th Annual Animal Krackers Gala\non Saturday\, Oct. 7\, 2023!\n \nThis elegant evening includes a dinner\, a silent and live auction\, and visits with adorable\, adoptable animals. Our 30th Annual Animal Krackers will be held on Saturday\, October 7\, 2023. We look forward to hosting over 400 guests and 40 volunteers for our night of glitz and glamour! Interested in becoming an Animal Krackers sponsor? Please email Events & Outreach Manager\, Jessi Reynolds\, at jreynolds@kitsap-humane.org for details.\n\n \n\n
URL:https://www.kitsap-humane.org/event/animal-krackers-2023/
LOCATION:Suquamish Clearwater Casino
CATEGORIES:Featured
ATTACH;FMTTYPE=image/jpeg:https://www.kitsap-humane.org/wp-content/uploads/2023/07/WEB-FeatEvent-AK-2023.jpg
END:VEVENT
END:VCALENDAR