BEGIN:VCALENDAR
VERSION:2.0
PRODID:-//Kitsap Humane Society - ECPv5.0.3.1//NONSGML v1.0//EN
CALSCALE:GREGORIAN
METHOD:PUBLISH
X-WR-CALNAME:Kitsap Humane Society
X-ORIGINAL-URL:https://www.kitsap-humane.org
X-WR-CALDESC:Events for Kitsap Humane Society
BEGIN:VTIMEZONE
TZID:America/Vancouver
BEGIN:DAYLIGHT
TZOFFSETFROM:-0800
TZOFFSETTO:-0700
TZNAME:PDT
DTSTART:20210314T100000
END:DAYLIGHT
BEGIN:STANDARD
TZOFFSETFROM:-0700
TZOFFSETTO:-0800
TZNAME:PST
DTSTART:20211107T090000
END:STANDARD
END:VTIMEZONE
BEGIN:VEVENT
DTSTART;TZID=America/Vancouver:20211120T120000
DTEND;TZID=America/Vancouver:20211121T160000
DTSTAMP:20260420T194904
CREATED:20211118T220702Z
LAST-MODIFIED:20211118T220706Z
UID:18558-1637409600-1637510400@www.kitsap-humane.org
SUMMARY:$50 Off Kitten Adoption Fees
DESCRIPTION:$50 off all kitten adoption fees this Saturday\, Nov. 20\, and Sunday\, Nov. 21 at Kitsap Humane Society! \nWHEN: Saturday\, Nov. 20 and Sunday\, Nov. 21 from 12 pm – 4 pm \nWHERE: Kitsap Humane Society\, 9167 Dickey Rd SW\, Silverdale\, WA 98383 \nCheck out our available pets page to view all of our adoptable animals! \n
URL:https://www.kitsap-humane.org/event/50-off-kitten-adoption-fees/
CATEGORIES:Featured
ATTACH;FMTTYPE=image/jpeg:https://www.kitsap-humane.org/wp-content/uploads/2018/06/Kittens-2.jpg
END:VEVENT
END:VCALENDAR